BEGIN:VCALENDAR
VERSION:2.0
PRODID:-//Hermes Diepenbeek - ECPv6.3.3.1//NONSGML v1.0//EN
CALSCALE:GREGORIAN
METHOD:PUBLISH
X-WR-CALNAME:Hermes Diepenbeek
X-ORIGINAL-URL:https://hermesdiepenbeek.be
X-WR-CALDESC:Evenementen voor Hermes Diepenbeek
REFRESH-INTERVAL;VALUE=DURATION:PT1H
X-Robots-Tag:noindex
X-PUBLISHED-TTL:PT1H
BEGIN:VTIMEZONE
TZID:Europe/Brussels
BEGIN:DAYLIGHT
TZOFFSETFROM:+0100
TZOFFSETTO:+0200
TZNAME:CEST
DTSTART:20230326T010000
END:DAYLIGHT
BEGIN:STANDARD
TZOFFSETFROM:+0200
TZOFFSETTO:+0100
TZNAME:CET
DTSTART:20231029T010000
END:STANDARD
END:VTIMEZONE
BEGIN:VEVENT
DTSTART;TZID=Europe/Brussels:20230204T110000
DTEND;TZID=Europe/Brussels:20230212T110000
DTSTAMP:20260420T091432
CREATED:20221112T201239Z
LAST-MODIFIED:20221112T201239Z
UID:3207-1675508400-1676199600@hermesdiepenbeek.be
SUMMARY:Skireis Hermes x GrooveX
DESCRIPTION:Whoohoow het is weer zo ver!\nHermes gaat skiën en wij willen jullie allemaal mee! \n*Registreer je nu via de link in de beschrijving om jouw plaats te reserveren.\n*Inschrijven kan tot eind oktober \nInbegrepen in de basisprijs:\n– Appartementen formule (op de piste en aan de skilift + vlakbij disco’s & bars)\n– Skipas 6 dagen Passo di Tonale & Presena Gletsjer & Ponti di Legno – Temu\, nachtski inbegrepen. (optie 7 dagen\, optie uitbreiding skigebied)\n– Vervoer (heen en terug) in moderne autocar\n– Korting op drankjes in diverse clubs\n– Korting op middageten / avondeten in diverse horecazaken\n– Exclusieve Groove-X Après-Ski met eigen partydeck\n– Legendarische Pubcrawl met gratis drankjes\n– Organisatie\, omkadering en ondersteuning door Groove-X\n– Alle taxen\, fooien en garantiefondsbijdrage\n– Persoonlijk Hermes Food&Drinks Pakket voor de hele week te overleven!!!\nEn nog zó veel meer!!\n\n 
URL:https://hermesdiepenbeek.be/event/skireis-hermes-x-groovex/
LOCATION:passo del tonale\, Ponte di Legno\, Province of Brescia\, 25056\, Italië
CATEGORIES:Trips
ATTACH;FMTTYPE=image/jpeg:https://hermesdiepenbeek.be/wp-content/uploads/2022/11/309937434_5736515836386922_7322485139400561877_n.jpg
END:VEVENT
END:VCALENDAR